BEGIN:VCALENDAR
VERSION:2.0
PRODID:-//Humane Society of Skagit Valley (HSSV) - ECPv6.15.20//NONSGML v1.0//EN
CALSCALE:GREGORIAN
METHOD:PUBLISH
X-ORIGINAL-URL:https://skagithumane.org
X-WR-CALDESC:Events for Humane Society of Skagit Valley (HSSV)
REFRESH-INTERVAL;VALUE=DURATION:PT1H
X-Robots-Tag:noindex
X-PUBLISHED-TTL:PT1H
BEGIN:VTIMEZONE
TZID:America/Los_Angeles
BEGIN:DAYLIGHT
TZOFFSETFROM:-0800
TZOFFSETTO:-0700
TZNAME:PDT
DTSTART:20230312T100000
END:DAYLIGHT
BEGIN:STANDARD
TZOFFSETFROM:-0700
TZOFFSETTO:-0800
TZNAME:PST
DTSTART:20231105T090000
END:STANDARD
BEGIN:DAYLIGHT
TZOFFSETFROM:-0800
TZOFFSETTO:-0700
TZNAME:PDT
DTSTART:20240310T100000
END:DAYLIGHT
BEGIN:STANDARD
TZOFFSETFROM:-0700
TZOFFSETTO:-0800
TZNAME:PST
DTSTART:20241103T090000
END:STANDARD
BEGIN:DAYLIGHT
TZOFFSETFROM:-0800
TZOFFSETTO:-0700
TZNAME:PDT
DTSTART:20250309T100000
END:DAYLIGHT
BEGIN:STANDARD
TZOFFSETFROM:-0700
TZOFFSETTO:-0800
TZNAME:PST
DTSTART:20251102T090000
END:STANDARD
BEGIN:DAYLIGHT
TZOFFSETFROM:-0800
TZOFFSETTO:-0700
TZNAME:PDT
DTSTART:20260308T100000
END:DAYLIGHT
BEGIN:STANDARD
TZOFFSETFROM:-0700
TZOFFSETTO:-0800
TZNAME:PST
DTSTART:20261101T090000
END:STANDARD
END:VTIMEZONE
BEGIN:VEVENT
DTSTART;TZID=America/Los_Angeles:20251025T170000
DTEND;TZID=America/Los_Angeles:20251025T213000
DTSTAMP:20260423T143503
CREATED:20250228T215453Z
LAST-MODIFIED:20250418T204613Z
UID:10000043-1761411600-1761427800@skagithumane.org
SUMMARY:Black Cat Auction & Costume Gala 2025
DESCRIPTION:The 30th Annual Black Cat Auction & Costume Gala on October 25\, 2025 supports the programs of Humane Society of Skagit Valley\, including daily care of shelter animals\, spay & neuter surgeries\, pet food\, emergency medical care and resources for pets and their people. HSSV provides animal sheltering services for Skagit County and municipalities within their jurisdiction. HSSV is a nonprofit organization founded in 1974. Tax ID# 91-0903532
URL:https://skagithumane.org/event/black-cat-auction-costume-gala-2025/
LOCATION:Swinomish Casino & Lodge\, 12885 Casino Dr\, Anacortes\, WA\, 98221\, United States
CATEGORIES:Fundraiser
ATTACH;FMTTYPE=image/jpeg:https://skagithumane.org/wp-content/uploads/2025/02/Black-Cat-Auction-Costume-Gala-Logo.jpg
ORGANIZER;CN="Kathleen Olson":MAILTO:Events@skagithumane.org
END:VEVENT
BEGIN:VEVENT
DTSTART;TZID=America/Los_Angeles:20241019T170000
DTEND;TZID=America/Los_Angeles:20241019T210000
DTSTAMP:20260423T143503
CREATED:20240311T225255Z
LAST-MODIFIED:20240311T225255Z
UID:10000033-1729357200-1729371600@skagithumane.org
SUMMARY:Humane Heroes Costume Gala and Auction Anniversary Celebration
DESCRIPTION:This exciting event is not to be missed\, so save the date!
URL:https://skagithumane.org/event/humane-heroes-costume-gala-and-auction-anniversary-celebration/
LOCATION:Swinomish Casino & Lodge\, 12885 Casino Dr\, Anacortes\, WA\, 98221\, United States
CATEGORIES:Fundraiser
ATTACH;FMTTYPE=image/png:https://skagithumane.org/wp-content/uploads/2024/03/24-auction-flyer.png
ORGANIZER;CN="Kimberly Durham":MAILTO:kimw@skagithumane.org
END:VEVENT
END:VCALENDAR