BEGIN:VCALENDAR
VERSION:2.0
PRODID:-//Humane Society of Skagit Valley (HSSV) - ECPv6.15.20//NONSGML v1.0//EN
CALSCALE:GREGORIAN
METHOD:PUBLISH
X-ORIGINAL-URL:https://skagithumane.org
X-WR-CALDESC:Events for Humane Society of Skagit Valley (HSSV)
REFRESH-INTERVAL;VALUE=DURATION:PT1H
X-Robots-Tag:noindex
X-PUBLISHED-TTL:PT1H
BEGIN:VTIMEZONE
TZID:America/Los_Angeles
BEGIN:DAYLIGHT
TZOFFSETFROM:-0800
TZOFFSETTO:-0700
TZNAME:PDT
DTSTART:20240310T100000
END:DAYLIGHT
BEGIN:STANDARD
TZOFFSETFROM:-0700
TZOFFSETTO:-0800
TZNAME:PST
DTSTART:20241103T090000
END:STANDARD
BEGIN:DAYLIGHT
TZOFFSETFROM:-0800
TZOFFSETTO:-0700
TZNAME:PDT
DTSTART:20250309T100000
END:DAYLIGHT
BEGIN:STANDARD
TZOFFSETFROM:-0700
TZOFFSETTO:-0800
TZNAME:PST
DTSTART:20251102T090000
END:STANDARD
BEGIN:DAYLIGHT
TZOFFSETFROM:-0800
TZOFFSETTO:-0700
TZNAME:PDT
DTSTART:20260308T100000
END:DAYLIGHT
BEGIN:STANDARD
TZOFFSETFROM:-0700
TZOFFSETTO:-0800
TZNAME:PST
DTSTART:20261101T090000
END:STANDARD
END:VTIMEZONE
BEGIN:VEVENT
DTSTART;TZID=America/Los_Angeles:20250726T110000
DTEND;TZID=America/Los_Angeles:20250726T150000
DTSTAMP:20260425T060301
CREATED:20250709T232816Z
LAST-MODIFIED:20250709T233343Z
UID:10000431-1753527600-1753542000@skagithumane.org
SUMMARY:Marysville PetSmart Adoption Saturday
DESCRIPTION:Come see Carol and her team. They’ll be at the Marysville PetSmart with cats and dogs on Saturday\, July 26th\, from 11:00am to 3:00pm.
URL:https://skagithumane.org/event/marysville-petsmart-adoption-saturday/
LOCATION:Marysville Petsmart\, 3723 116th St NE\, Marysville\, WA\, 98270
CATEGORIES:Adoption Event
END:VEVENT
BEGIN:VEVENT
DTSTART;TZID=America/Los_Angeles:20250620T110000
DTEND;TZID=America/Los_Angeles:20250620T150000
DTSTAMP:20260425T060301
CREATED:20250514T182802Z
LAST-MODIFIED:20250514T182802Z
UID:10000422-1750417200-1750431600@skagithumane.org
SUMMARY:PetSmart Adoption Friday
DESCRIPTION:Come see Melissa and her team. They’ll be at the Marysville PetSmart with cats and dogs on Friday\, June 20th\, from 11:00am to 3:00pm.
URL:https://skagithumane.org/event/petsmart-adoption-friday-3/
LOCATION:Marysville Petsmart\, 3723 116th St NE\, Marysville\, WA\, 98270
CATEGORIES:Adoption Event
ORGANIZER;CN="Melissa":MAILTO:shelter@skagithumane.org
END:VEVENT
BEGIN:VEVENT
DTSTART;TZID=America/Los_Angeles:20250516T110000
DTEND;TZID=America/Los_Angeles:20250516T150000
DTSTAMP:20260425T060301
CREATED:20250514T181408Z
LAST-MODIFIED:20250514T181838Z
UID:10000420-1747393200-1747407600@skagithumane.org
SUMMARY:PetSmart Adoption Friday
DESCRIPTION:Come see Melissa and her team. They’ll be at the Marysville PetSmart with cats and dogs on Friday\, May 16th\, from 11:00am to 3:00pm.
URL:https://skagithumane.org/event/petsmart-adoption-friday/
LOCATION:Marysville Petsmart\, 3723 116th St NE\, Marysville\, WA\, 98270
CATEGORIES:Adoption Event
ORGANIZER;CN="Melissa":MAILTO:shelter@skagithumane.org
END:VEVENT
BEGIN:VEVENT
DTSTART;TZID=America/Los_Angeles:20250329T110000
DTEND;TZID=America/Los_Angeles:20250329T150000
DTSTAMP:20260425T060301
CREATED:20250304T230705Z
LAST-MODIFIED:20250305T053736Z
UID:10000414-1743246000-1743260400@skagithumane.org
SUMMARY:PetSmart Adoption Weekend: Marysville
DESCRIPTION:Come see Veronica and her team. They’ll be at the Marysville PetSmart with puppies on March 29th from 11:00 am to 3:00 pm. \ntake exit 202 west onto 116th
URL:https://skagithumane.org/event/petsmart-adoption-weekend-marysville/
LOCATION:Marysville Petsmart\, 3723 116th St NE\, Marysville\, WA\, 98270
CATEGORIES:Adoption Event
ORGANIZER;CN="Veronica":MAILTO:volunteer@skagithumane.org
END:VEVENT
END:VCALENDAR