BEGIN:VCALENDAR
VERSION:2.0
PRODID:-//Humane Society of Skagit Valley (HSSV) - ECPv6.15.20//NONSGML v1.0//EN
CALSCALE:GREGORIAN
METHOD:PUBLISH
X-ORIGINAL-URL:https://skagithumane.org
X-WR-CALDESC:Events for Humane Society of Skagit Valley (HSSV)
REFRESH-INTERVAL;VALUE=DURATION:PT1H
X-Robots-Tag:noindex
X-PUBLISHED-TTL:PT1H
BEGIN:VTIMEZONE
TZID:America/Los_Angeles
BEGIN:DAYLIGHT
TZOFFSETFROM:-0800
TZOFFSETTO:-0700
TZNAME:PDT
DTSTART:20240310T100000
END:DAYLIGHT
BEGIN:STANDARD
TZOFFSETFROM:-0700
TZOFFSETTO:-0800
TZNAME:PST
DTSTART:20241103T090000
END:STANDARD
BEGIN:DAYLIGHT
TZOFFSETFROM:-0800
TZOFFSETTO:-0700
TZNAME:PDT
DTSTART:20250309T100000
END:DAYLIGHT
BEGIN:STANDARD
TZOFFSETFROM:-0700
TZOFFSETTO:-0800
TZNAME:PST
DTSTART:20251102T090000
END:STANDARD
BEGIN:DAYLIGHT
TZOFFSETFROM:-0800
TZOFFSETTO:-0700
TZNAME:PDT
DTSTART:20260308T100000
END:DAYLIGHT
BEGIN:STANDARD
TZOFFSETFROM:-0700
TZOFFSETTO:-0800
TZNAME:PST
DTSTART:20261101T090000
END:STANDARD
END:VTIMEZONE
BEGIN:VEVENT
DTSTART;VALUE=DATE:20250430
DTEND;VALUE=DATE:20250501
DTSTAMP:20260423T104935
CREATED:20250415T210844Z
LAST-MODIFIED:20250415T210844Z
UID:10000418-1745971200-1746057599@skagithumane.org
SUMMARY:National Adopt a Shelter Pet Day
DESCRIPTION:Come by and adopt on April 30th\, or any day\, in honor of National Adopt a Shelter Pet Day! \nHSSV is open to the public from 11 am to 5 pm Monday through Friday and 11 am to 4 pm Saturday and Sunday. We close every day for a half hour break at 1:30 pm.
URL:https://skagithumane.org/event/national-adopt-a-shelter-pet-day/
LOCATION:Humane Society of Skagit Valley\, 18841 Kelleher Rd\, Burlington\, WA\, 98233\, United States
ORGANIZER;CN="HSSV":MAILTO:info@skagithumane.org
END:VEVENT
END:VCALENDAR