BEGIN:VCALENDAR
VERSION:2.0
PRODID:-//Humane Society of Skagit Valley (HSSV) - ECPv6.15.20//NONSGML v1.0//EN
CALSCALE:GREGORIAN
METHOD:PUBLISH
X-WR-CALNAME:Humane Society of Skagit Valley (HSSV)
X-ORIGINAL-URL:https://skagithumane.org
X-WR-CALDESC:Events for Humane Society of Skagit Valley (HSSV)
REFRESH-INTERVAL;VALUE=DURATION:PT1H
X-Robots-Tag:noindex
X-PUBLISHED-TTL:PT1H
BEGIN:VTIMEZONE
TZID:America/Los_Angeles
BEGIN:DAYLIGHT
TZOFFSETFROM:-0800
TZOFFSETTO:-0700
TZNAME:PDT
DTSTART:20240310T100000
END:DAYLIGHT
BEGIN:STANDARD
TZOFFSETFROM:-0700
TZOFFSETTO:-0800
TZNAME:PST
DTSTART:20241103T090000
END:STANDARD
BEGIN:DAYLIGHT
TZOFFSETFROM:-0800
TZOFFSETTO:-0700
TZNAME:PDT
DTSTART:20250309T100000
END:DAYLIGHT
BEGIN:STANDARD
TZOFFSETFROM:-0700
TZOFFSETTO:-0800
TZNAME:PST
DTSTART:20251102T090000
END:STANDARD
BEGIN:DAYLIGHT
TZOFFSETFROM:-0800
TZOFFSETTO:-0700
TZNAME:PDT
DTSTART:20260308T100000
END:DAYLIGHT
BEGIN:STANDARD
TZOFFSETFROM:-0700
TZOFFSETTO:-0800
TZNAME:PST
DTSTART:20261101T090000
END:STANDARD
END:VTIMEZONE
BEGIN:VEVENT
DTSTART;TZID=America/Los_Angeles:20250809T090000
DTEND;TZID=America/Los_Angeles:20250809T140000
DTSTAMP:20260423T212515
CREATED:20250702T215652Z
LAST-MODIFIED:20250702T220441Z
UID:10000430-1754730000-1754748000@skagithumane.org
SUMMARY:HSSV Yard Sale
DESCRIPTION:Join us at the Shelter on Saturday\, August 9th from 9am to 2pm for the Humane Society of Skagit Valley Yard Sale. We’ll have household goods\, pet supplies\, and more from our gift shop and our Thrift Shop!
URL:https://skagithumane.org/event/hssv-yard-sale/
LOCATION:Humane Society of Skagit Valley\, 18841 Kelleher Rd\, Burlington\, WA\, 98233\, United States
ATTACH;FMTTYPE=image/png:https://skagithumane.org/wp-content/uploads/2025/07/Aug-9-Yard-Sale-Flyer.png
ORGANIZER;CN="HSSV Events Team":MAILTO:events@skagithumane.org
END:VEVENT
BEGIN:VEVENT
DTSTART;TZID=America/Los_Angeles:20250823T100000
DTEND;TZID=America/Los_Angeles:20250823T150000
DTSTAMP:20260423T212515
CREATED:20250418T195835Z
LAST-MODIFIED:20250521T231931Z
UID:10000417-1755943200-1755961200@skagithumane.org
SUMMARY:2025 Anne Jackson Memorial Walkathon
DESCRIPTION:Join us in supporting the Humane Society of Skagit Valley at our Annual Deputy Anne Jackson Memorial Walkathon. This fun event for the whole family will be held at the Saturday\, August 23rd at 10:00am. Top Dogs can win great prizes! We’ll have first\, second\, and third-place prizes for those who collect the most pledges. The more pledges you collect\, the better your chances of winning!
URL:https://skagithumane.org/event/2025-anne-jackson-memorial-walkathon/
LOCATION:Port of Skagit Walking Trails\, 15053 Crosswind Dr.\, Burlington\, 98233\, United States
ATTACH;FMTTYPE=image/png:https://skagithumane.org/wp-content/uploads/2025/05/2025-Walkathon-e1747869511388.png
ORGANIZER;CN="HSSV Events Team":MAILTO:events@skagithumane.org
END:VEVENT
BEGIN:VEVENT
DTSTART;TZID=America/Los_Angeles:20250823T110000
DTEND;TZID=America/Los_Angeles:20250823T150000
DTSTAMP:20260423T212515
CREATED:20250813T235123Z
LAST-MODIFIED:20250813T235123Z
UID:10000433-1755946800-1755961200@skagithumane.org
SUMMARY:Everett PetSmart Adoption Saturday
DESCRIPTION:Come see Carol and her team! They’ll be at the Everett PetSmart with cats and dogs on Saturday\, August 23rd \, from 11:00am to 3:00pm.
URL:https://skagithumane.org/event/everett-petsmart-adoption-saturday/
LOCATION:PetSmart Everett Mall\, 1130 SE Everett Mall Way\, Everett\, WA\, 98208\, United States
CATEGORIES:Adoption Event
ATTACH;FMTTYPE=image/jpeg:https://skagithumane.org/wp-content/uploads/2025/08/CHARITIES_ADOPTION-EVENT_Flyer_US_Dog.pdf_1-scaled.jpg
ORGANIZER;CN="Carol Lamar":MAILTO:carol.l@skagithumane.org
END:VEVENT
END:VCALENDAR