BEGIN:VCALENDAR
VERSION:2.0
PRODID:-//Humane Society of Skagit Valley (HSSV) - ECPv6.15.20//NONSGML v1.0//EN
CALSCALE:GREGORIAN
METHOD:PUBLISH
X-ORIGINAL-URL:https://skagithumane.org
X-WR-CALDESC:Events for Humane Society of Skagit Valley (HSSV)
REFRESH-INTERVAL;VALUE=DURATION:PT1H
X-Robots-Tag:noindex
X-PUBLISHED-TTL:PT1H
BEGIN:VTIMEZONE
TZID:America/Los_Angeles
BEGIN:DAYLIGHT
TZOFFSETFROM:-0800
TZOFFSETTO:-0700
TZNAME:PDT
DTSTART:20240310T100000
END:DAYLIGHT
BEGIN:STANDARD
TZOFFSETFROM:-0700
TZOFFSETTO:-0800
TZNAME:PST
DTSTART:20241103T090000
END:STANDARD
BEGIN:DAYLIGHT
TZOFFSETFROM:-0800
TZOFFSETTO:-0700
TZNAME:PDT
DTSTART:20250309T100000
END:DAYLIGHT
BEGIN:STANDARD
TZOFFSETFROM:-0700
TZOFFSETTO:-0800
TZNAME:PST
DTSTART:20251102T090000
END:STANDARD
BEGIN:DAYLIGHT
TZOFFSETFROM:-0800
TZOFFSETTO:-0700
TZNAME:PDT
DTSTART:20260308T100000
END:DAYLIGHT
BEGIN:STANDARD
TZOFFSETFROM:-0700
TZOFFSETTO:-0800
TZNAME:PST
DTSTART:20261101T090000
END:STANDARD
END:VTIMEZONE
BEGIN:VEVENT
DTSTART;TZID=America/Los_Angeles:20250607T110000
DTEND;TZID=America/Los_Angeles:20250607T150000
DTSTAMP:20260424T003449
CREATED:20250514T182255Z
LAST-MODIFIED:20250527T180337Z
UID:10000421-1749294000-1749308400@skagithumane.org
SUMMARY:PetSmart Adoption Saturday
DESCRIPTION:Come see Melissa and her team. They’ll be at the Everett PetSmart with cats and dogs on Saturday\, June 7th\, from 11:00am to 3:00pm.
URL:https://skagithumane.org/event/petsmart-adoption-friday-2/
LOCATION:PetSmart Everett Mall\, 1130 SE Everett Mall Way\, Everett\, WA\, 98208\, United States
CATEGORIES:Adoption Event
ORGANIZER;CN="Melissa":MAILTO:shelter@skagithumane.org
END:VEVENT
BEGIN:VEVENT
DTSTART;TZID=America/Los_Angeles:20250620T110000
DTEND;TZID=America/Los_Angeles:20250620T150000
DTSTAMP:20260424T003449
CREATED:20250514T182802Z
LAST-MODIFIED:20250514T182802Z
UID:10000422-1750417200-1750431600@skagithumane.org
SUMMARY:PetSmart Adoption Friday
DESCRIPTION:Come see Melissa and her team. They’ll be at the Marysville PetSmart with cats and dogs on Friday\, June 20th\, from 11:00am to 3:00pm.
URL:https://skagithumane.org/event/petsmart-adoption-friday-3/
LOCATION:Marysville Petsmart\, 3723 116th St NE\, Marysville\, WA\, 98270
CATEGORIES:Adoption Event
ORGANIZER;CN="Melissa":MAILTO:shelter@skagithumane.org
END:VEVENT
BEGIN:VEVENT
DTSTART;TZID=America/Los_Angeles:20250622T110000
DTEND;TZID=America/Los_Angeles:20250622T160000
DTSTAMP:20260424T003449
CREATED:20250607T212521Z
LAST-MODIFIED:20250610T175818Z
UID:10000426-1750590000-1750608000@skagithumane.org
SUMMARY:Burlington Berry Dairy Days
DESCRIPTION:Join the Humane Society of Skagit Valley at the Berry Dairy Days Festival. We will have dogs ready to adopt at our information booth at Skagit River Park on Sunday\, June 22nd\, from 11:00am to 4:00pm.
URL:https://skagithumane.org/event/burlington-berry-dairy-days/
LOCATION:Skagit River Park\, 1100 S Skagit Street\, Burlington\, WA\, 98233\, United States
ATTACH;FMTTYPE=image/png:https://skagithumane.org/wp-content/uploads/2025/05/June2025Adoption.png
ORGANIZER;CN="HSSV Events Team":MAILTO:events@skagithumane.org
END:VEVENT
BEGIN:VEVENT
DTSTART;TZID=America/Los_Angeles:20250625T100000
DTEND;TZID=America/Los_Angeles:20250625T150000
DTSTAMP:20260424T003449
CREATED:20250610T184415Z
LAST-MODIFIED:20250610T234604Z
UID:10000429-1750845600-1750863600@skagithumane.org
SUMMARY:Woofmas In June
DESCRIPTION:Join the Humane Society of Skagit Valley at the Burlington Skagit Farmers Supply Country Store on June 25th\, for Woofmas In June. With the help of KBRC and the Country Store\, we are rounding up donations for Skagit County’s shelter animals. Bring items like gently used linens\, gift cards\, treats\, and food. We can use it all. We will have dogs ready to adopt in store.
URL:https://skagithumane.org/event/woofmas-in-june-3/
LOCATION:Burlington Country Store\, 1276 S Burlington Blvd\, Burlington\, WA\, 98233\, United States
ATTACH;FMTTYPE=image/png:https://skagithumane.org/wp-content/uploads/2025/05/June2025Adoption.png
ORGANIZER;CN="HSSV Events Team":MAILTO:events@skagithumane.org
END:VEVENT
BEGIN:VEVENT
DTSTART;TZID=America/Los_Angeles:20250628T110000
DTEND;TZID=America/Los_Angeles:20250628T150000
DTSTAMP:20260424T003449
CREATED:20250607T213657Z
LAST-MODIFIED:20250610T175935Z
UID:10000427-1751108400-1751122800@skagithumane.org
SUMMARY:Mud Bay Adoption Event
DESCRIPTION:Join Melissa and her team at the Burlington Mud Bay store. They will have cats and dogs ready to adopt in store on Saturday\, June 28th from 11:00am to 3:00pm.
URL:https://skagithumane.org/event/mud-bay-adoption-event/
LOCATION:Burlington Mud Bay\, 626 Haggen Drive\, Burlington\, WA\, 98233\, United States
ATTACH;FMTTYPE=image/png:https://skagithumane.org/wp-content/uploads/2025/05/June2025Adoption.png
ORGANIZER;CN="Melissa":MAILTO:shelter@skagithumane.org
END:VEVENT
END:VCALENDAR