BEGIN:VCALENDAR
VERSION:2.0
PRODID:-//Humane Society of Skagit Valley (HSSV) - ECPv6.15.20//NONSGML v1.0//EN
CALSCALE:GREGORIAN
METHOD:PUBLISH
X-ORIGINAL-URL:https://skagithumane.org
X-WR-CALDESC:Events for Humane Society of Skagit Valley (HSSV)
REFRESH-INTERVAL;VALUE=DURATION:PT1H
X-Robots-Tag:noindex
X-PUBLISHED-TTL:PT1H
BEGIN:VTIMEZONE
TZID:America/Los_Angeles
BEGIN:DAYLIGHT
TZOFFSETFROM:-0800
TZOFFSETTO:-0700
TZNAME:PDT
DTSTART:20240310T100000
END:DAYLIGHT
BEGIN:STANDARD
TZOFFSETFROM:-0700
TZOFFSETTO:-0800
TZNAME:PST
DTSTART:20241103T090000
END:STANDARD
BEGIN:DAYLIGHT
TZOFFSETFROM:-0800
TZOFFSETTO:-0700
TZNAME:PDT
DTSTART:20250309T100000
END:DAYLIGHT
BEGIN:STANDARD
TZOFFSETFROM:-0700
TZOFFSETTO:-0800
TZNAME:PST
DTSTART:20251102T090000
END:STANDARD
BEGIN:DAYLIGHT
TZOFFSETFROM:-0800
TZOFFSETTO:-0700
TZNAME:PDT
DTSTART:20260308T100000
END:DAYLIGHT
BEGIN:STANDARD
TZOFFSETFROM:-0700
TZOFFSETTO:-0800
TZNAME:PST
DTSTART:20261101T090000
END:STANDARD
BEGIN:DAYLIGHT
TZOFFSETFROM:-0800
TZOFFSETTO:-0700
TZNAME:PDT
DTSTART:20270314T100000
END:DAYLIGHT
BEGIN:STANDARD
TZOFFSETFROM:-0700
TZOFFSETTO:-0800
TZNAME:PST
DTSTART:20271107T090000
END:STANDARD
END:VTIMEZONE
BEGIN:VEVENT
DTSTART;VALUE=DATE:20251202
DTEND;VALUE=DATE:20251203
DTSTAMP:20260423T170525
CREATED:20251121T212608Z
LAST-MODIFIED:20251121T215145Z
UID:10000437-1764633600-1764719999@skagithumane.org
SUMMARY:Giving Tuesday 2025
DESCRIPTION:GivingTuesday is a global day of giving fueled by the power of social media and collaboration.  Your donation to the Humane Society of Skagit Valley may be matched\, doubling the impact of your gift. \nCelebrated on the Tuesday following Thanksgiving\, that is 12/2/2025 this year\, (in the U.S.) and the widely recognized shopping events Black Friday and Cyber Monday\, GivingTuesday kicks off the charitable season\, when many focus on their holiday and end-of-year giving. \nDonate to the Humane Society of Skagit Valley for Giving Tuesday here!
URL:https://skagithumane.org/event/giving-tuesday-2025/
LOCATION:Humane Society of Skagit Valley\, 18841 Kelleher Rd\, Burlington\, WA\, 98233\, United States
ATTACH;FMTTYPE=image/png:https://skagithumane.org/wp-content/uploads/2025/11/Giving-Tuesday.png
ORGANIZER;CN="HSSV Events Team":MAILTO:events@skagithumane.org
END:VEVENT
BEGIN:VEVENT
DTSTART;TZID=America/Los_Angeles:20251206T100000
DTEND;TZID=America/Los_Angeles:20251206T140000
DTSTAMP:20260423T170525
CREATED:20251101T181958Z
LAST-MODIFIED:20251101T181958Z
UID:10000435-1765015200-1765029600@skagithumane.org
SUMMARY:Santa Paws
DESCRIPTION:Get your pet’s photo taken with Santa! Join us at Pet Wants Skagit in Sedro Woolley on Saturday\, December 6th from 10:00 am to 2:00 pm for some holiday fun. We will print a color photo of your pet with Santa for a $25 donation\, or two for $40. Each photo comes with a card. Donations benefit the Humane Society of Skagit Valley.
URL:https://skagithumane.org/event/santa-paws/
LOCATION:Pet Wants Skagit\, 206 Ferry St.\, Sedro-Woolley\, WA\, 98284\, United States
ATTACH;FMTTYPE=image/png:https://skagithumane.org/wp-content/uploads/2025/11/SantaPawsEnD.png
ORGANIZER;CN="HSSV Events Team":MAILTO:events@skagithumane.org
END:VEVENT
BEGIN:VEVENT
DTSTART;TZID=America/Los_Angeles:20251206T110000
DTEND;TZID=America/Los_Angeles:20251206T150000
DTSTAMP:20260423T170525
CREATED:20251122T233252Z
LAST-MODIFIED:20251128T191801Z
UID:10000438-1765018800-1765033200@skagithumane.org
SUMMARY:PetSmart Adopt Joy Saturday
DESCRIPTION:The Humane Society of Skagit Valley invites media and the community to Adopt Joy\, a local adoption event at your neighborhood PetSmart at the Everett Mall\, 1130 SE Everett Mall Way Everett\, WA 98208. With thousands of pets in need of loving homes\, this celebration of compassion and connection is the perfect opportunity to meet adoptable dogs of various breeds\, ages and energy levels. We will be there on Saturday 12/6/25 from 11:00 am – 3:00 pm. \n 
URL:https://skagithumane.org/event/petsmart-adopt-joy-saturday/
LOCATION:PetSmart Everett Mall\, 1130 SE Everett Mall Way\, Everett\, WA\, 98208\, United States
CATEGORIES:Adoption Event
ATTACH;FMTTYPE=image/png:https://skagithumane.org/wp-content/uploads/2025/11/Adopt-Joy-2025.png
ORGANIZER;CN="Foster Care Team":MAILTO:carol.l@skagithumane.org
END:VEVENT
BEGIN:VEVENT
DTSTART;TZID=America/Los_Angeles:20251212T173000
DTEND;TZID=America/Los_Angeles:20251212T193000
DTSTAMP:20260423T170525
CREATED:20251209T204635Z
LAST-MODIFIED:20251209T204635Z
UID:10000439-1765560600-1765567800@skagithumane.org
SUMMARY:Paws For a Beer Adoption Event
DESCRIPTION:Come on out to Paws for a Beer to grab a drink and meet our amazing adoptable dogs. We have all different ages and breeds looking for their forever homes. See them in action with other dogs and strangers in a public environment. Perhaps you’ll meet your new best friend? Every second Friday\, 5:30 PM — 7:30 PM.
URL:https://skagithumane.org/event/paws-for-a-beer-adoption-event/
LOCATION:Paws For a Beer\, 501 Harris Avenue\, Bellingham\, WA\, WA\, 98225\, United States
END:VEVENT
BEGIN:VEVENT
DTSTART;TZID=America/Los_Angeles:20260117T110000
DTEND;TZID=America/Los_Angeles:20260117T150000
DTSTAMP:20260423T170525
CREATED:20260114T214020Z
LAST-MODIFIED:20260114T215158Z
UID:10000440-1768647600-1768662000@skagithumane.org
SUMMARY:PetSmart Adopt Joy January
DESCRIPTION:PetSmart Charities and the Humane Society of Skagit Valley Present: Adopt Joy™ Adoption Event \nYour New Best Friend is Waiting at PetSmart\, Everett Mall \nWHAT: The Humane Society of Skagit Valley invites media and the community to Adopt Joy\, a local adoption event at your neighborhood PetSmart at 1130 SE Everett Mall Way Everett\, WA 98208. With thousands of pets in need of loving homes\, this celebration of compassion and connection is the perfect opportunity to meet adoptable dogs of various breeds\, ages and energy levels. \nWHEN:\nSaturday\, 1/17/2026\nFrom 11:00 am to 3:00 pm \nWHERE:\nEverett Mall PetSmart: 1130 SE Everett Mall Way Everett\, WA 98208 \nWHO: \n\nCommunity members\, pet lovers and potential dog adopters and/or fosters\nFamilies and kids for meaningful interactions with adoptable pets\nMedia invited for photo\, video\, and heartstrings-tugging interview opportunities\n\nWHY:\nEach year\, millions of pets enter local animal shelters in need of loving homes. Today\, dogs are especially in need of people looking for companionship\, love and a reason to go for walks. Local Adopt Joy™ events not only raise awareness for pet adoption but celebrates compassion and connection. Supported by PetSmart Charities\, adoption brings joy to pets and people alike. \n 
URL:https://skagithumane.org/event/petsmart-adopt-joy-january/
LOCATION:PetSmart Everett Mall\, 1130 SE Everett Mall Way\, Everett\, WA\, 98208\, United States
ATTACH;FMTTYPE=image/png:https://skagithumane.org/wp-content/uploads/2026/01/Adopt-Joy-January-1.png
ORGANIZER;CN="Foster Care Team":MAILTO:carol.l@skagithumane.org
END:VEVENT
BEGIN:VEVENT
DTSTART;TZID=America/Los_Angeles:20260221T110000
DTEND;TZID=America/Los_Angeles:20260221T150000
DTSTAMP:20260423T170525
CREATED:20260114T215842Z
LAST-MODIFIED:20260114T215842Z
UID:10000441-1771671600-1771686000@skagithumane.org
SUMMARY:PetSmart Adopt Joy February
DESCRIPTION:PetSmart Charities and the Humane Society of Skagit Valley Present: Adopt Joy™ Adoption Event \nYour New Best Friend is Waiting at PetSmart\, Everett Mall \nWHAT: The Humane Society of Skagit Valley invites media and the community to Adopt Joy\, a local adoption event at your neighborhood PetSmart at 1130 SE Everett Mall Way Everett\, WA 98208. With thousands of pets in need of loving homes\, this celebration of compassion and connection is the perfect opportunity to meet adoptable dogs of various breeds\, ages and energy levels. \nWHEN:\nSaturday\, 2/21/2026\nFrom 11:00 am to 3:00 pm \nWHERE:\nEverett Mall PetSmart: 1130 SE Everett Mall Way Everett\, WA 98208 \nWHO: \n\nCommunity members\, pet lovers and potential dog adopters and/or fosters\nFamilies and kids for meaningful interactions with adoptable pets\nMedia invited for photo\, video\, and heartstrings-tugging interview opportunities\n\nWHY:\nEach year\, millions of pets enter local animal shelters in need of loving homes. Today\, dogs are especially in need of people looking for companionship\, love and a reason to go for walks. Local Adopt Joy™ events not only raise awareness for pet adoption but celebrates compassion and connection. Supported by PetSmart Charities\, adoption brings joy to pets and people alike. \n 
URL:https://skagithumane.org/event/petsmart-adopt-joy-february/
LOCATION:PetSmart Everett Mall\, 1130 SE Everett Mall Way\, Everett\, WA\, 98208\, United States
ATTACH;FMTTYPE=image/png:https://skagithumane.org/wp-content/uploads/2026/01/Adopt-Joy-February.png
ORGANIZER;CN="Foster Care Team":MAILTO:carol.l@skagithumane.org
END:VEVENT
BEGIN:VEVENT
DTSTART;TZID=America/Los_Angeles:20260307T160000
DTEND;TZID=America/Los_Angeles:20260307T180000
DTSTAMP:20260423T170525
CREATED:20260307T003416Z
LAST-MODIFIED:20260307T003431Z
UID:10000445-1772899200-1772906400@skagithumane.org
SUMMARY:Pups & Pints at Birdsview Brewing
DESCRIPTION:Join us Saturday\, 3/7/26 at Birdsview Brewing Company from 4:00pm to 6:00pm. Enjoy bingo and meet adoptable dogs!
URL:https://skagithumane.org/event/pups-pints-at-birdsview-brewing-2/
LOCATION:Birdsview Brewing Company\, 38302 Washington 20\, Concrete\, WA\, 98237\, United States
END:VEVENT
BEGIN:VEVENT
DTSTART;TZID=America/Los_Angeles:20260313T173000
DTEND;TZID=America/Los_Angeles:20260313T193000
DTSTAMP:20260423T170525
CREATED:20260307T003741Z
LAST-MODIFIED:20260307T003741Z
UID:10000446-1773423000-1773430200@skagithumane.org
SUMMARY:Paws For a Beer Adoption Event
DESCRIPTION:Come on out to Paws for a Beer to grab a drink and meet our amazing adoptable dogs! We have all different ages and breeds looking for their forever homes. See them in action with other dogs and strangers in a public environment. Perhaps you’ll meet your new best friend? Every second Friday\, 5:30 PM — 7:30 PM.
URL:https://skagithumane.org/event/paws-for-a-beer-adoption-event-2/
LOCATION:Paws For a Beer\, 501 Harris Avenue\, Bellingham\, WA\, WA\, 98225\, United States
END:VEVENT
BEGIN:VEVENT
DTSTART;TZID=America/Los_Angeles:20260315T110000
DTEND;TZID=America/Los_Angeles:20260315T140000
DTSTAMP:20260423T170525
CREATED:20260305T014653Z
LAST-MODIFIED:20260305T014653Z
UID:10000444-1773572400-1773583200@skagithumane.org
SUMMARY:St. Patrick's Adoption Event at Pet Supplies Plus
DESCRIPTION:Join us on Sunday March 15th from 11:00 am to 2:00 pm for our St. Patrick’s Adoption Event at Pet Supplies Plus.
URL:https://skagithumane.org/event/st-patricks-adoption-event-at-pet-supplies-plus/
LOCATION:Pet Supplies Plus Burlington\, 139 Cascade Mall Dr\, Burlington\, WA\, 98233
ATTACH;FMTTYPE=image/png:https://skagithumane.org/wp-content/uploads/2026/02/St.Paddys-Day.PetsPlus.png
ORGANIZER;CN="Foster Care Team":MAILTO:carol.l@skagithumane.org
END:VEVENT
BEGIN:VEVENT
DTSTART;TZID=America/Los_Angeles:20260328T110000
DTEND;TZID=America/Los_Angeles:20260328T150000
DTSTAMP:20260423T170525
CREATED:20260114T220753Z
LAST-MODIFIED:20260114T220753Z
UID:10000442-1774695600-1774710000@skagithumane.org
SUMMARY:PetSmart Adopt Joy March
DESCRIPTION:PetSmart Charities and the Humane Society of Skagit Valley Present: Adopt Joy™ Adoption Event \nYour New Best Friend is Waiting at PetSmart\, Everett Mall \nWHAT: The Humane Society of Skagit Valley invites media and the community to Adopt Joy\, a local adoption event at your neighborhood PetSmart at 1130 SE Everett Mall Way Everett\, WA 98208. With thousands of pets in need of loving homes\, this celebration of compassion and connection is the perfect opportunity to meet adoptable dogs of various breeds\, ages and energy levels. \nWHEN:\nSaturday\, 3/28/2026\nFrom 11:00 am to 3:00 pm \nWHERE:\nEverett Mall PetSmart: 1130 SE Everett Mall Way Everett\, WA 98208 \nWHO: \n\nCommunity members\, pet lovers and potential dog adopters and/or fosters\nFamilies and kids for meaningful interactions with adoptable pets\nMedia invited for photo\, video\, and heartstrings-tugging interview opportunities\n\nWHY:\nEach year\, millions of pets enter local animal shelters in need of loving homes. Today\, dogs are especially in need of people looking for companionship\, love and a reason to go for walks. Local Adopt Joy™ events not only raise awareness for pet adoption but celebrates compassion and connection. Supported by PetSmart Charities\, adoption brings joy to pets and people alike. \n 
URL:https://skagithumane.org/event/petsmart-adopt-joy-march/
LOCATION:PetSmart Everett Mall\, 1130 SE Everett Mall Way\, Everett\, WA\, 98208\, United States
ATTACH;FMTTYPE=image/png:https://skagithumane.org/wp-content/uploads/2026/01/Adopt-Joy-March.png
ORGANIZER;CN="Foster Care Team":MAILTO:carol.l@skagithumane.org
END:VEVENT
BEGIN:VEVENT
DTSTART;TZID=America/Los_Angeles:20260425T110000
DTEND;TZID=America/Los_Angeles:20260425T150000
DTSTAMP:20260423T170525
CREATED:20260114T221255Z
LAST-MODIFIED:20260114T221255Z
UID:10000443-1777114800-1777129200@skagithumane.org
SUMMARY:PetSmart Adopt Joy April
DESCRIPTION:PetSmart Charities and the Humane Society of Skagit Valley Present: Adopt Joy™ Adoption Event \nYour New Best Friend is Waiting at PetSmart\, Everett Mall \nWHAT: The Humane Society of Skagit Valley invites media and the community to Adopt Joy\, a local adoption event at your neighborhood PetSmart at 1130 SE Everett Mall Way Everett\, WA 98208. With thousands of pets in need of loving homes\, this celebration of compassion and connection is the perfect opportunity to meet adoptable dogs of various breeds\, ages and energy levels. \nWHEN:\nSaturday\, 4/25/2026\nFrom 11:00 am to 3:00 pm \nWHERE:\nEverett Mall PetSmart: 1130 SE Everett Mall Way Everett\, WA 98208 \nWHO: \n\nCommunity members\, pet lovers and potential dog adopters and/or fosters\nFamilies and kids for meaningful interactions with adoptable pets\nMedia invited for photo\, video\, and heartstrings-tugging interview opportunities\n\nWHY:\nEach year\, millions of pets enter local animal shelters in need of loving homes. Today\, dogs are especially in need of people looking for companionship\, love and a reason to go for walks. Local Adopt Joy™ events not only raise awareness for pet adoption but celebrates compassion and connection. Supported by PetSmart Charities\, adoption brings joy to pets and people alike. \n 
URL:https://skagithumane.org/event/petsmart-adopt-joy-april/
LOCATION:PetSmart Everett Mall\, 1130 SE Everett Mall Way\, Everett\, WA\, 98208\, United States
ATTACH;FMTTYPE=image/png:https://skagithumane.org/wp-content/uploads/2026/01/Adopt-Joy-April.png
ORGANIZER;CN="Foster Care Team":MAILTO:carol.l@skagithumane.org
END:VEVENT
BEGIN:VEVENT
DTSTART;TZID=America/Los_Angeles:20260530T100000
DTEND;TZID=America/Los_Angeles:20260530T150000
DTSTAMP:20260423T170525
CREATED:20260328T193926Z
LAST-MODIFIED:20260411T200036Z
UID:10000447-1780135200-1780153200@skagithumane.org
SUMMARY:HSSV at Art of the Motorcycle 2026
DESCRIPTION:Sponsored by the Washington Vintage Motorcyclists and benefitting the Humane Society of Skagit Valley as well as three other local shelters. This all-indoor event has you covered\, rain or shine!
URL:https://skagithumane.org/event/hssv-at-art-of-the-motorcycle-2026/
LOCATION:People’s Bank Farm Pavilion\, Northwest Washington Fairgrounds\, 1775 Front St\, Lynden\, WA\, 98264
ATTACH;FMTTYPE=application/pdf:https://skagithumane.org/wp-content/uploads/2026/03/WVMNWMC2026FinalArtMasterPoster_260213.pdf
ORGANIZER;CN="HSSV":MAILTO:info@skagithumane.org
END:VEVENT
END:VCALENDAR