BEGIN:VCALENDAR
VERSION:2.0
PRODID:-//Humane Society of Skagit Valley (HSSV) - ECPv6.15.20//NONSGML v1.0//EN
CALSCALE:GREGORIAN
METHOD:PUBLISH
X-ORIGINAL-URL:https://skagithumane.org
X-WR-CALDESC:Events for Humane Society of Skagit Valley (HSSV)
REFRESH-INTERVAL;VALUE=DURATION:PT1H
X-Robots-Tag:noindex
X-PUBLISHED-TTL:PT1H
BEGIN:VTIMEZONE
TZID:America/Los_Angeles
BEGIN:DAYLIGHT
TZOFFSETFROM:-0800
TZOFFSETTO:-0700
TZNAME:PDT
DTSTART:20230312T100000
END:DAYLIGHT
BEGIN:STANDARD
TZOFFSETFROM:-0700
TZOFFSETTO:-0800
TZNAME:PST
DTSTART:20231105T090000
END:STANDARD
BEGIN:DAYLIGHT
TZOFFSETFROM:-0800
TZOFFSETTO:-0700
TZNAME:PDT
DTSTART:20240310T100000
END:DAYLIGHT
BEGIN:STANDARD
TZOFFSETFROM:-0700
TZOFFSETTO:-0800
TZNAME:PST
DTSTART:20241103T090000
END:STANDARD
BEGIN:DAYLIGHT
TZOFFSETFROM:-0800
TZOFFSETTO:-0700
TZNAME:PDT
DTSTART:20250309T100000
END:DAYLIGHT
BEGIN:STANDARD
TZOFFSETFROM:-0700
TZOFFSETTO:-0800
TZNAME:PST
DTSTART:20251102T090000
END:STANDARD
END:VTIMEZONE
BEGIN:VEVENT
DTSTART;TZID=America/Los_Angeles:20241130T110000
DTEND;TZID=America/Los_Angeles:20241130T150000
DTSTAMP:20260423T170607
CREATED:20240311T230203Z
LAST-MODIFIED:20250305T051655Z
UID:10000034-1732964400-1732978800@skagithumane.org
SUMMARY:Santa Paws & Claws Family Photo Event
DESCRIPTION:Santa Claus is coming to town! Mark your calendars! We’ll have yummy snacks and stocking stuffers for humans and pets alike. You’ll leave with a print of one photo and we’ll email you additional shots. The suggested donation is only $10! This event will be held at the Burlington Fire Department at Address: 350 E Sharon Ave\, Burlington\, WA 98233
URL:https://skagithumane.org/event/santa-paws-claws-family-photo-event-2/
LOCATION:Humane Society of Skagit Valley\, 18841 Kelleher Rd\, Burlington\, WA\, 98233\, United States
CATEGORIES:Community Outreach,Fundraiser
ATTACH;FMTTYPE=image/png:https://skagithumane.org/wp-content/uploads/2024/03/Santa-Paws-2024.png
ORGANIZER;CN="Kimberly Durham":MAILTO:kimw@skagithumane.org
END:VEVENT
BEGIN:VEVENT
DTSTART;TZID=America/Los_Angeles:20240817T100000
DTEND;TZID=America/Los_Angeles:20240817T140000
DTSTAMP:20260423T170607
CREATED:20240815T220909Z
LAST-MODIFIED:20240815T221836Z
UID:10000039-1723888800-1723903200@skagithumane.org
SUMMARY:Happy Paws Pet Event
DESCRIPTION:Join us for a day to celebrate pets! We’ll be onsite at Coastal in Mount Vernon at 2021 Market Street on Saturday\, August 17th from 10 am to 2 pm. Come see us!
URL:https://skagithumane.org/event/happy-paws-pet-event/
LOCATION:Coastal\, 2021 Market Street\, Mount Vernon\, WA\, 98273\, United States
CATEGORIES:Adoption Event,Community Outreach
ATTACH;FMTTYPE=image/jpeg:https://skagithumane.org/wp-content/uploads/2024/08/2024-Happy-Paws-Store-Poster-11x17_Coastal-SKAGIT.jpg
ORGANIZER;CN="Janine Ceja":MAILTO:info@skagithumane.org
END:VEVENT
BEGIN:VEVENT
DTSTART;TZID=America/Los_Angeles:20240615T100000
DTEND;TZID=America/Los_Angeles:20240615T130000
DTSTAMP:20260423T170607
CREATED:20240311T190243Z
LAST-MODIFIED:20240311T190243Z
UID:10000030-1718445600-1718456400@skagithumane.org
SUMMARY:Bark in the Park
DESCRIPTION:The 2024 Anacortes Bark in the Park is a special event all about dogs! Come to Storvik Park on June 10th to enjoy dog demos\, silly dog contests\, and the many dog vendors. For ALL AGES! Come by and say hi to us at our booth. We’ll have some special friends with us available for adoption!
URL:https://skagithumane.org/event/bark-in-the-park-2/
LOCATION:Storvik Park\, 1110 32nd Street\, Anacortes\, WA\, 98221\, United States
CATEGORIES:Adoption Event,Community Outreach
ATTACH;FMTTYPE=image/jpeg:https://skagithumane.org/wp-content/uploads/2023/02/erika12.jpg
END:VEVENT
BEGIN:VEVENT
DTSTART;TZID=America/Los_Angeles:20240608T090000
DTEND;TZID=America/Los_Angeles:20240608T140000
DTSTAMP:20260423T170607
CREATED:20240311T191545Z
LAST-MODIFIED:20240510T043848Z
UID:10000031-1717837200-1717855200@skagithumane.org
SUMMARY:Mount Vernon Farmer's Market
DESCRIPTION:Mount Vernon hosts a bustling market every Saturday from 9 am to 2 pm for 22 weeks. We’ll be there with some pets for adoption on June 8th. We would love for you to come by and say hi!
URL:https://skagithumane.org/event/mount-vernon-farmers-market-2/
LOCATION:Riverwalk Park\, 509 S Main Street\, Mount Vernon\, WA\, 98273\, United States
CATEGORIES:Adoption Event,Community Outreach
ATTACH;FMTTYPE=image/jpeg:https://skagithumane.org/wp-content/uploads/2023/05/296828302_10166148506400018_1985216321414713049_n1.jpg
ORGANIZER;CN="Janine Ceja":MAILTO:info@skagithumane.org
END:VEVENT
END:VCALENDAR