BEGIN:VCALENDAR
VERSION:2.0
PRODID:-//Humane Society of Skagit Valley (HSSV) - ECPv6.15.20//NONSGML v1.0//EN
CALSCALE:GREGORIAN
METHOD:PUBLISH
X-WR-CALNAME:Humane Society of Skagit Valley (HSSV)
X-ORIGINAL-URL:https://skagithumane.org
X-WR-CALDESC:Events for Humane Society of Skagit Valley (HSSV)
REFRESH-INTERVAL;VALUE=DURATION:PT1H
X-Robots-Tag:noindex
X-PUBLISHED-TTL:PT1H
BEGIN:VTIMEZONE
TZID:America/Los_Angeles
BEGIN:DAYLIGHT
TZOFFSETFROM:-0800
TZOFFSETTO:-0700
TZNAME:PDT
DTSTART:20250309T100000
END:DAYLIGHT
BEGIN:STANDARD
TZOFFSETFROM:-0700
TZOFFSETTO:-0800
TZNAME:PST
DTSTART:20251102T090000
END:STANDARD
BEGIN:DAYLIGHT
TZOFFSETFROM:-0800
TZOFFSETTO:-0700
TZNAME:PDT
DTSTART:20260308T100000
END:DAYLIGHT
BEGIN:STANDARD
TZOFFSETFROM:-0700
TZOFFSETTO:-0800
TZNAME:PST
DTSTART:20261101T090000
END:STANDARD
BEGIN:DAYLIGHT
TZOFFSETFROM:-0800
TZOFFSETTO:-0700
TZNAME:PDT
DTSTART:20270314T100000
END:DAYLIGHT
BEGIN:STANDARD
TZOFFSETFROM:-0700
TZOFFSETTO:-0800
TZNAME:PST
DTSTART:20271107T090000
END:STANDARD
END:VTIMEZONE
BEGIN:VEVENT
DTSTART;TZID=America/Los_Angeles:20260425T110000
DTEND;TZID=America/Los_Angeles:20260425T150000
DTSTAMP:20260423T105605
CREATED:20260114T221255Z
LAST-MODIFIED:20260114T221255Z
UID:10000443-1777114800-1777129200@skagithumane.org
SUMMARY:PetSmart Adopt Joy April
DESCRIPTION:PetSmart Charities and the Humane Society of Skagit Valley Present: Adopt Joy™ Adoption Event \nYour New Best Friend is Waiting at PetSmart\, Everett Mall \nWHAT: The Humane Society of Skagit Valley invites media and the community to Adopt Joy\, a local adoption event at your neighborhood PetSmart at 1130 SE Everett Mall Way Everett\, WA 98208. With thousands of pets in need of loving homes\, this celebration of compassion and connection is the perfect opportunity to meet adoptable dogs of various breeds\, ages and energy levels. \nWHEN:\nSaturday\, 4/25/2026\nFrom 11:00 am to 3:00 pm \nWHERE:\nEverett Mall PetSmart: 1130 SE Everett Mall Way Everett\, WA 98208 \nWHO: \n\nCommunity members\, pet lovers and potential dog adopters and/or fosters\nFamilies and kids for meaningful interactions with adoptable pets\nMedia invited for photo\, video\, and heartstrings-tugging interview opportunities\n\nWHY:\nEach year\, millions of pets enter local animal shelters in need of loving homes. Today\, dogs are especially in need of people looking for companionship\, love and a reason to go for walks. Local Adopt Joy™ events not only raise awareness for pet adoption but celebrates compassion and connection. Supported by PetSmart Charities\, adoption brings joy to pets and people alike. \n 
URL:https://skagithumane.org/event/petsmart-adopt-joy-april/
LOCATION:PetSmart Everett Mall\, 1130 SE Everett Mall Way\, Everett\, WA\, 98208\, United States
ATTACH;FMTTYPE=image/png:https://skagithumane.org/wp-content/uploads/2026/01/Adopt-Joy-April.png
ORGANIZER;CN="Foster Care Team":MAILTO:carol.l@skagithumane.org
END:VEVENT
END:VCALENDAR