BEGIN:VCALENDAR
VERSION:2.0
PRODID:-//Humane Society of Skagit Valley (HSSV) - ECPv6.15.20//NONSGML v1.0//EN
CALSCALE:GREGORIAN
METHOD:PUBLISH
X-WR-CALNAME:Humane Society of Skagit Valley (HSSV)
X-ORIGINAL-URL:https://skagithumane.org
X-WR-CALDESC:Events for Humane Society of Skagit Valley (HSSV)
REFRESH-INTERVAL;VALUE=DURATION:PT1H
X-Robots-Tag:noindex
X-PUBLISHED-TTL:PT1H
BEGIN:VTIMEZONE
TZID:America/Los_Angeles
BEGIN:DAYLIGHT
TZOFFSETFROM:-0800
TZOFFSETTO:-0700
TZNAME:PDT
DTSTART:20240310T100000
END:DAYLIGHT
BEGIN:STANDARD
TZOFFSETFROM:-0700
TZOFFSETTO:-0800
TZNAME:PST
DTSTART:20241103T090000
END:STANDARD
BEGIN:DAYLIGHT
TZOFFSETFROM:-0800
TZOFFSETTO:-0700
TZNAME:PDT
DTSTART:20250309T100000
END:DAYLIGHT
BEGIN:STANDARD
TZOFFSETFROM:-0700
TZOFFSETTO:-0800
TZNAME:PST
DTSTART:20251102T090000
END:STANDARD
BEGIN:DAYLIGHT
TZOFFSETFROM:-0800
TZOFFSETTO:-0700
TZNAME:PDT
DTSTART:20260308T100000
END:DAYLIGHT
BEGIN:STANDARD
TZOFFSETFROM:-0700
TZOFFSETTO:-0800
TZNAME:PST
DTSTART:20261101T090000
END:STANDARD
END:VTIMEZONE
BEGIN:VEVENT
DTSTART;VALUE=DATE:20251202
DTEND;VALUE=DATE:20251203
DTSTAMP:20260423T170034
CREATED:20251121T212608Z
LAST-MODIFIED:20251121T215145Z
UID:10000437-1764633600-1764719999@skagithumane.org
SUMMARY:Giving Tuesday 2025
DESCRIPTION:GivingTuesday is a global day of giving fueled by the power of social media and collaboration.  Your donation to the Humane Society of Skagit Valley may be matched\, doubling the impact of your gift. \nCelebrated on the Tuesday following Thanksgiving\, that is 12/2/2025 this year\, (in the U.S.) and the widely recognized shopping events Black Friday and Cyber Monday\, GivingTuesday kicks off the charitable season\, when many focus on their holiday and end-of-year giving. \nDonate to the Humane Society of Skagit Valley for Giving Tuesday here!
URL:https://skagithumane.org/event/giving-tuesday-2025/
LOCATION:Humane Society of Skagit Valley\, 18841 Kelleher Rd\, Burlington\, WA\, 98233\, United States
ATTACH;FMTTYPE=image/png:https://skagithumane.org/wp-content/uploads/2025/11/Giving-Tuesday.png
ORGANIZER;CN="HSSV Events Team":MAILTO:events@skagithumane.org
END:VEVENT
END:VCALENDAR