BEGIN:VCALENDAR
VERSION:2.0
PRODID:-//Humane Society of Skagit Valley (HSSV) - ECPv6.15.20//NONSGML v1.0//EN
CALSCALE:GREGORIAN
METHOD:PUBLISH
X-ORIGINAL-URL:https://skagithumane.org
X-WR-CALDESC:Events for Humane Society of Skagit Valley (HSSV)
REFRESH-INTERVAL;VALUE=DURATION:PT1H
X-Robots-Tag:noindex
X-PUBLISHED-TTL:PT1H
BEGIN:VTIMEZONE
TZID:America/Los_Angeles
BEGIN:DAYLIGHT
TZOFFSETFROM:-0800
TZOFFSETTO:-0700
TZNAME:PDT
DTSTART:20240310T100000
END:DAYLIGHT
BEGIN:STANDARD
TZOFFSETFROM:-0700
TZOFFSETTO:-0800
TZNAME:PST
DTSTART:20241103T090000
END:STANDARD
BEGIN:DAYLIGHT
TZOFFSETFROM:-0800
TZOFFSETTO:-0700
TZNAME:PDT
DTSTART:20250309T100000
END:DAYLIGHT
BEGIN:STANDARD
TZOFFSETFROM:-0700
TZOFFSETTO:-0800
TZNAME:PST
DTSTART:20251102T090000
END:STANDARD
BEGIN:DAYLIGHT
TZOFFSETFROM:-0800
TZOFFSETTO:-0700
TZNAME:PDT
DTSTART:20260308T100000
END:DAYLIGHT
BEGIN:STANDARD
TZOFFSETFROM:-0700
TZOFFSETTO:-0800
TZNAME:PST
DTSTART:20261101T090000
END:STANDARD
END:VTIMEZONE
BEGIN:VEVENT
DTSTART;TZID=America/Los_Angeles:20250913T100000
DTEND;TZID=America/Los_Angeles:20250913T140000
DTSTAMP:20260423T212657
CREATED:20250607T220324Z
LAST-MODIFIED:20250607T220429Z
UID:10000428-1757757600-1757772000@skagithumane.org
SUMMARY:Senior Resource Fair
DESCRIPTION:Veronica will be at the Anacortes Senior Activity Center on Saturday\, September 13th\, sharing information and recruiting volunteers.
URL:https://skagithumane.org/event/senior-resource-fair/
LOCATION:Anacortes Senior Activity Center\, 1701 22nd St.\, Anacortes\, WA\, 98221\, United States
ORGANIZER;CN="Veronica":MAILTO:volunteer@skagithumane.org
END:VEVENT
END:VCALENDAR