BEGIN:VCALENDAR
VERSION:2.0
PRODID:-//Humane Society of Skagit Valley (HSSV) - ECPv6.15.20//NONSGML v1.0//EN
CALSCALE:GREGORIAN
METHOD:PUBLISH
X-WR-CALNAME:Humane Society of Skagit Valley (HSSV)
X-ORIGINAL-URL:https://skagithumane.org
X-WR-CALDESC:Events for Humane Society of Skagit Valley (HSSV)
REFRESH-INTERVAL;VALUE=DURATION:PT1H
X-Robots-Tag:noindex
X-PUBLISHED-TTL:PT1H
BEGIN:VTIMEZONE
TZID:America/Los_Angeles
BEGIN:DAYLIGHT
TZOFFSETFROM:-0800
TZOFFSETTO:-0700
TZNAME:PDT
DTSTART:20240310T100000
END:DAYLIGHT
BEGIN:STANDARD
TZOFFSETFROM:-0700
TZOFFSETTO:-0800
TZNAME:PST
DTSTART:20241103T090000
END:STANDARD
BEGIN:DAYLIGHT
TZOFFSETFROM:-0800
TZOFFSETTO:-0700
TZNAME:PDT
DTSTART:20250309T100000
END:DAYLIGHT
BEGIN:STANDARD
TZOFFSETFROM:-0700
TZOFFSETTO:-0800
TZNAME:PST
DTSTART:20251102T090000
END:STANDARD
BEGIN:DAYLIGHT
TZOFFSETFROM:-0800
TZOFFSETTO:-0700
TZNAME:PDT
DTSTART:20260308T100000
END:DAYLIGHT
BEGIN:STANDARD
TZOFFSETFROM:-0700
TZOFFSETTO:-0800
TZNAME:PST
DTSTART:20261101T090000
END:STANDARD
END:VTIMEZONE
BEGIN:VEVENT
DTSTART;TZID=America/Los_Angeles:20250726T110000
DTEND;TZID=America/Los_Angeles:20250726T150000
DTSTAMP:20260424T003337
CREATED:20250514T183425Z
LAST-MODIFIED:20250709T232650Z
UID:10000423-1753527600-1753542000@skagithumane.org
SUMMARY:Everett PetSmart Adoption Saturday
DESCRIPTION:Come see Delaney and her team. They’ll be at the Everett PetSmart with cats and dogs on Saturday\, July 26th\, from 11:00am to 3:00pm.
URL:https://skagithumane.org/event/petsmart-adoption-friday-5/
LOCATION:PetSmart Everett Mall\, 1130 SE Everett Mall Way\, Everett\, WA\, 98208\, United States
CATEGORIES:Adoption Event
END:VEVENT
BEGIN:VEVENT
DTSTART;TZID=America/Los_Angeles:20250726T110000
DTEND;TZID=America/Los_Angeles:20250726T150000
DTSTAMP:20260424T003337
CREATED:20250709T232816Z
LAST-MODIFIED:20250709T233343Z
UID:10000431-1753527600-1753542000@skagithumane.org
SUMMARY:Marysville PetSmart Adoption Saturday
DESCRIPTION:Come see Carol and her team. They’ll be at the Marysville PetSmart with cats and dogs on Saturday\, July 26th\, from 11:00am to 3:00pm.
URL:https://skagithumane.org/event/marysville-petsmart-adoption-saturday/
LOCATION:Marysville Petsmart\, 3723 116th St NE\, Marysville\, WA\, 98270
CATEGORIES:Adoption Event
END:VEVENT
BEGIN:VEVENT
DTSTART;TZID=America/Los_Angeles:20250726T110000
DTEND;TZID=America/Los_Angeles:20250726T150000
DTSTAMP:20260424T003337
CREATED:20250709T232936Z
LAST-MODIFIED:20250709T233221Z
UID:10000432-1753527600-1753542000@skagithumane.org
SUMMARY:Burlington PetSmart Adoption Saturday
DESCRIPTION:Come see Veronica and her team. They’ll be at the Burlington PetSmart with cats and dogs on Saturday\, July 26th\, from 11:00am to 3:00pm.
URL:https://skagithumane.org/event/burlington-petsmart-adoption-saturday/
LOCATION:Burlington PetSmart\, 1969 Market Place\, Burlington\, WA\, 98233
CATEGORIES:Adoption Event
ORGANIZER;CN="Veronica":MAILTO:volunteer@skagithumane.org
END:VEVENT
END:VCALENDAR