BEGIN:VCALENDAR
VERSION:2.0
PRODID:-//Humane Society of Skagit Valley (HSSV) - ECPv6.15.20//NONSGML v1.0//EN
CALSCALE:GREGORIAN
METHOD:PUBLISH
X-WR-CALNAME:Humane Society of Skagit Valley (HSSV)
X-ORIGINAL-URL:https://skagithumane.org
X-WR-CALDESC:Events for Humane Society of Skagit Valley (HSSV)
REFRESH-INTERVAL;VALUE=DURATION:PT1H
X-Robots-Tag:noindex
X-PUBLISHED-TTL:PT1H
BEGIN:VTIMEZONE
TZID:America/Los_Angeles
BEGIN:DAYLIGHT
TZOFFSETFROM:-0800
TZOFFSETTO:-0700
TZNAME:PDT
DTSTART:20230312T100000
END:DAYLIGHT
BEGIN:STANDARD
TZOFFSETFROM:-0700
TZOFFSETTO:-0800
TZNAME:PST
DTSTART:20231105T090000
END:STANDARD
BEGIN:DAYLIGHT
TZOFFSETFROM:-0800
TZOFFSETTO:-0700
TZNAME:PDT
DTSTART:20240310T100000
END:DAYLIGHT
BEGIN:STANDARD
TZOFFSETFROM:-0700
TZOFFSETTO:-0800
TZNAME:PST
DTSTART:20241103T090000
END:STANDARD
BEGIN:DAYLIGHT
TZOFFSETFROM:-0800
TZOFFSETTO:-0700
TZNAME:PDT
DTSTART:20250309T100000
END:DAYLIGHT
BEGIN:STANDARD
TZOFFSETFROM:-0700
TZOFFSETTO:-0800
TZNAME:PST
DTSTART:20251102T090000
END:STANDARD
END:VTIMEZONE
BEGIN:VEVENT
DTSTART;TZID=America/Los_Angeles:20240621T110000
DTEND;TZID=America/Los_Angeles:20240621T150000
DTSTAMP:20260424T193703
CREATED:20240613T173207Z
LAST-MODIFIED:20240613T173207Z
UID:10000036-1718967600-1718982000@skagithumane.org
SUMMARY:Woofmas in June
DESCRIPTION:Forget Christmas in July\, we prefer Woofmas in June! Our very good friends at KBRC 102.9FM/1430AM Classic Rock Radio and KAPS Country Radio will be joining us and Santa Paws at the Burlington Country Store on June 21st from 11 am to 3 pm for their annual Pet Supply Drive. Don’t miss it!! Big\, BIG thanks to the sponsors who support this event! We so appreciate you!\n\n\n\nSUPER SPONSORS:\nChem-Dry of Mount Vernon Docking Bay 93 Double Barrel BBQ Rewaxation Candle Company Crawford Garage Doors\, Inc. Chinook Enterprises The Lunchbox Diner WoodCraft Wood Floors\, Inc Sabores Catering CARE Medical Center Burlington Used Car Superstore Absolute Plumbing and Jee Jac Kennels
URL:https://skagithumane.org/event/woofmas-in-june-2/
LOCATION:Burlington Country Store\, 1276 S Burlington Blvd\, Burlington\, WA\, 98233\, United States
ATTACH;FMTTYPE=image/jpeg:https://skagithumane.org/wp-content/uploads/2024/06/448017772_1008732971252458_6522862542776816874_n.jpg
ORGANIZER;CN="Kimberly Durham":MAILTO:kimw@skagithumane.org
END:VEVENT
END:VCALENDAR